BEGIN:VCALENDAR
VERSION:2.0
PRODID:-//ChamberMaster//Event Calendar 2.0//EN
METHOD:PUBLISH
X-PUBLISHED-TTL:P1H
REFRESH-INTERVAL:P1H
CALSCALE:GREGORIAN
BEGIN:VTIMEZONE
TZID:America/New_York
BEGIN:DAYLIGHT
RRULE:FREQ=YEARLY;BYMONTH=3;BYDAY=2SU
DTSTART:20070101T000000
TZOFFSETFROM:-0500
TZOFFSETTO:-0400
TZNAME:Eastern Daylight Time
END:DAYLIGHT
BEGIN:STANDARD
RRULE:FREQ=YEARLY;BYMONTH=11;BYDAY=1SU
DTSTART:20070101T000000
TZOFFSETFROM:-0400
TZOFFSETTO:-0500
TZNAME:Eastern Standard Time
END:STANDARD
END:VTIMEZONE
BEGIN:VEVENT
DTSTART;TZID=America/New_York:20260527T100000
DTEND;TZID=America/New_York:20260527T130000
X-MICROSOFT-CDO-ALLDAYEVENT:FALSE
SUMMARY:Free CE: Self Regulation and De-escalation Strategies for Real Estate Professionals\, 3 Credits
DESCRIPTION:In today’s fast-paced real estate industry\, the pressures of the market\, client demands\, and constant availability can take a toll on both professionals and clients. This course equips real estate agents with essential tools to navigate these challenges by building mental health literacy and practical strategies for resilience. Participants will explore the four pillars of mental health literacy\, learn to recognize signs of stress and distress in clients\, and strengthen their ability to communicate effectively in high-pressure situations. With an emphasis on trauma-informed approaches\, de-escalation techniques\, and maintaining professional boundaries\, agents will walk away with skills to foster healthier\, more respectful interactions in their work. \n\nWe are able to offer this course for free thanks to our sponsors: Peet Law Group and EastRise Credit Union!\n\nIf you wish to have lunch at the event\, please purchase a meal ticket with your registration. \n\nInstructor: Annie Valentine\, https://www.annievalentinecc.com/about
X-ALT-DESC;FMTTYPE=text/html:In today’s fast-paced real estate industry\, the pressures of the market\, client demands\, and constant availability can take a toll on both professionals and clients. This course equips real estate agents with essential tools to navigate these challenges by building mental health literacy and practical strategies for resilience. Participants will explore the four pillars of mental health literacy\, learn to recognize signs of stress and distress in clients\, and strengthen their ability to communicate effectively in high-pressure situations. With an emphasis on trauma-informed approaches\, de-escalation techniques\, and maintaining professional boundaries\, agents will walk away with skills to foster healthier\, more respectful interactions in their work. \n\nWe are able to offer this course for free thanks to our sponsors: Peet Law Group and EastRise Credit Union!\n\nIf you wish to have lunch at the event\, please purchase a meal ticket with your registration. \n\nInstructor: Annie Valentine\, https://www.annievalentinecc.com/about
LOCATION:141 Harvest Lane Williston VT 05495
UID:e.3312.1447309
SEQUENCE:3
DTSTAMP:20260423T063319Z
URL:https://members.nwvtrealtor.org/calendareducation/Details/free-ce-self-regulation-and-de-escalation-strategies-for-real-estate-professionals-3-credits-1714243?sourceTypeId=Hub
END:VEVENT
END:VCALENDAR
